BEGIN:VCALENDAR
VERSION:2.0
PRODID:-//Medics For Rare Disease - ECPv6.15.20//NONSGML v1.0//EN
CALSCALE:GREGORIAN
METHOD:PUBLISH
X-WR-CALNAME:Medics For Rare Disease
X-ORIGINAL-URL:https://www.m4rd.org
X-WR-CALDESC:Events for Medics For Rare Disease
REFRESH-INTERVAL;VALUE=DURATION:PT1H
X-Robots-Tag:noindex
X-PUBLISHED-TTL:PT1H
BEGIN:VTIMEZONE
TZID:Europe/London
BEGIN:DAYLIGHT
TZOFFSETFROM:+0000
TZOFFSETTO:+0100
TZNAME:BST
DTSTART:20250330T010000
END:DAYLIGHT
BEGIN:STANDARD
TZOFFSETFROM:+0100
TZOFFSETTO:+0000
TZNAME:GMT
DTSTART:20251026T010000
END:STANDARD
BEGIN:DAYLIGHT
TZOFFSETFROM:+0000
TZOFFSETTO:+0100
TZNAME:BST
DTSTART:20260329T010000
END:DAYLIGHT
BEGIN:STANDARD
TZOFFSETFROM:+0100
TZOFFSETTO:+0000
TZNAME:GMT
DTSTART:20261025T010000
END:STANDARD
BEGIN:DAYLIGHT
TZOFFSETFROM:+0000
TZOFFSETTO:+0100
TZNAME:BST
DTSTART:20270328T010000
END:DAYLIGHT
BEGIN:STANDARD
TZOFFSETFROM:+0100
TZOFFSETTO:+0000
TZNAME:GMT
DTSTART:20271031T010000
END:STANDARD
END:VTIMEZONE
BEGIN:VEVENT
DTSTART;TZID=Europe/London:20260122T150000
DTEND;TZID=Europe/London:20260122T153000
DTSTAMP:20260421T045408
CREATED:20260109T145550Z
LAST-MODIFIED:20260109T150302Z
UID:14366-1769094000-1769095800@www.m4rd.org
SUMMARY:Medics for Rare Disease Ambassador & Alumni Brew
DESCRIPTION:Kick off the New Year with a cuppa and a catch-up at our New Year Ambassador Brew ☕ \nThis relaxed\, virtual get-together is a chance for our Ambassador community to reconnect\, welcome new faces\, and ease into the year ahead together. There’s no formal agenda – just good conversation\, shared experiences\, and space to reflect on what’s coming up in 2026 for Medics for Rare Disease. \nWe’ll:\n* Say hello (or welcome back!)\n* Share a few informal updates from the team\n* Chat about what’s ahead for ambassadors this year\n* Create space for questions\, ideas\, and connection \nWhether you’ve been an ambassador/alumni for years or you’re relatively newly involved\, this is a low-pressure\, friendly space to join with a brew of your choice and be part of the conversation. \n👉 Grab a drink\, bring yourself\, and start the year with community.
URL:https://www.m4rd.org/event/medics-for-rare-disease-ambassador-alumni-brew/
LOCATION:ONLINE
CATEGORIES:Ambassadors,Lunch & learn,Rare Disease
ATTACH;FMTTYPE=image/png:https://www.m4rd.org/wp-content/uploads/2026/01/Ambassador-Online-Brew.png
END:VEVENT
BEGIN:VEVENT
DTSTART;TZID=Europe/London:20260127T190000
DTEND;TZID=Europe/London:20260127T200000
DTSTAMP:20260421T045408
CREATED:20260109T150108Z
LAST-MODIFIED:20260109T150108Z
UID:14369-1769540400-1769544000@www.m4rd.org
SUMMARY:Medics for Rare Disease Ambassador Rare 101: Train the Trainer
DESCRIPTION:Learn how to deliver engaging Rare Disease 101 talks with tips\, resources\, and insights from experienced ambassadors.\nThinking of running a Rare 101 training session in 2026? Whether you’re planning a full session or just have 10 minutes to introduce the basics\, this online training is designed to help you succeed. \nJoin our ambassadors—who have run successful sessions before—for an engaging and practical online workshop. Discover how to plan your own Rare 101 talk\, get inspired by real examples\, and access the resources you need to deliver a meaningful session. \nWhat to Expect:\n* Practical Resources: Get tools and materials to help you plan and deliver your Rare 101 talk.\n* Expert Insights: Learn the fundamentals of rare disease and understand how every healthcare professional can make a difference.\n* Tips & Tricks: Hear from ambassadors who have delivered sessions successfully.\n* Interactive Q&A: Ask your questions and get advice from Helen\, our experienced trainer.
URL:https://www.m4rd.org/event/medics-for-rare-disease-ambassador-rare-101-train-the-trainer/
LOCATION:ONLINE
CATEGORIES:Ambassadors,Rare Disease
ATTACH;FMTTYPE=image/png:https://www.m4rd.org/wp-content/uploads/2025/10/Ambassador-Rare-101-Train-The-Trainer-.png
END:VEVENT
END:VCALENDAR