BEGIN:VCALENDAR
VERSION:2.0
PRODID:-//Medics For Rare Disease - ECPv6.15.20//NONSGML v1.0//EN
CALSCALE:GREGORIAN
METHOD:PUBLISH
X-WR-CALNAME:Medics For Rare Disease
X-ORIGINAL-URL:https://www.m4rd.org
X-WR-CALDESC:Events for Medics For Rare Disease
REFRESH-INTERVAL;VALUE=DURATION:PT1H
X-Robots-Tag:noindex
X-PUBLISHED-TTL:PT1H
BEGIN:VTIMEZONE
TZID:Europe/London
BEGIN:DAYLIGHT
TZOFFSETFROM:+0000
TZOFFSETTO:+0100
TZNAME:BST
DTSTART:20190331T010000
END:DAYLIGHT
BEGIN:STANDARD
TZOFFSETFROM:+0100
TZOFFSETTO:+0000
TZNAME:GMT
DTSTART:20191027T010000
END:STANDARD
BEGIN:DAYLIGHT
TZOFFSETFROM:+0000
TZOFFSETTO:+0100
TZNAME:BST
DTSTART:20200329T010000
END:DAYLIGHT
BEGIN:STANDARD
TZOFFSETFROM:+0100
TZOFFSETTO:+0000
TZNAME:GMT
DTSTART:20201025T010000
END:STANDARD
BEGIN:DAYLIGHT
TZOFFSETFROM:+0000
TZOFFSETTO:+0100
TZNAME:BST
DTSTART:20210328T010000
END:DAYLIGHT
BEGIN:STANDARD
TZOFFSETFROM:+0100
TZOFFSETTO:+0000
TZNAME:GMT
DTSTART:20211031T010000
END:STANDARD
END:VTIMEZONE
BEGIN:VEVENT
DTSTART;VALUE=DATE:20201127
DTEND;VALUE=DATE:20201129
DTSTAMP:20260424T014712
CREATED:20200320T150136Z
LAST-MODIFIED:20200320T150302Z
UID:6597-1606435200-1606607999@www.m4rd.org
SUMMARY:RareFest20
DESCRIPTION:FREE to attend\, RAREfest20 is a full day Cambridge Rare Disease Network festival featuring interactive hands-on exhibits showcasing cool science\, visionary technology\, and pioneering organisations improving lives and bringing hope to those affected by rare diseases.  \nAlongside the exhibition there’ll be inspiring talks from experts and powerful patient voices\, rare disease inspired art and films.
URL:https://www.m4rd.org/event/rarefest20/
LOCATION:Guildhall Cambridge\, Cambridge\, United Kingdom
CATEGORIES:Conference,exhibition,Networking,Rare Diseases
ATTACH;FMTTYPE=image/jpeg:https://www.m4rd.org/wp-content/uploads/2020/03/https-cdn.evbuc_.com-images-91443871-147790335965-1-original.20200207-185545-e1584716365180.jpeg
ORGANIZER;CN="CRDN":MAILTO:jo@camraredisease.org
END:VEVENT
END:VCALENDAR