BEGIN:VCALENDAR
VERSION:2.0
PRODID:-//Medics For Rare Disease - ECPv6.15.20//NONSGML v1.0//EN
CALSCALE:GREGORIAN
METHOD:PUBLISH
X-WR-CALNAME:Medics For Rare Disease
X-ORIGINAL-URL:https://www.m4rd.org
X-WR-CALDESC:Events for Medics For Rare Disease
REFRESH-INTERVAL;VALUE=DURATION:PT1H
X-Robots-Tag:noindex
X-PUBLISHED-TTL:PT1H
BEGIN:VTIMEZONE
TZID:Europe/London
BEGIN:DAYLIGHT
TZOFFSETFROM:+0000
TZOFFSETTO:+0100
TZNAME:BST
DTSTART:20200329T010000
END:DAYLIGHT
BEGIN:STANDARD
TZOFFSETFROM:+0100
TZOFFSETTO:+0000
TZNAME:GMT
DTSTART:20201025T010000
END:STANDARD
BEGIN:DAYLIGHT
TZOFFSETFROM:+0000
TZOFFSETTO:+0100
TZNAME:BST
DTSTART:20210328T010000
END:DAYLIGHT
BEGIN:STANDARD
TZOFFSETFROM:+0100
TZOFFSETTO:+0000
TZNAME:GMT
DTSTART:20211031T010000
END:STANDARD
BEGIN:DAYLIGHT
TZOFFSETFROM:+0000
TZOFFSETTO:+0100
TZNAME:BST
DTSTART:20220327T010000
END:DAYLIGHT
BEGIN:STANDARD
TZOFFSETFROM:+0100
TZOFFSETTO:+0000
TZNAME:GMT
DTSTART:20221030T010000
END:STANDARD
END:VTIMEZONE
BEGIN:VEVENT
DTSTART;TZID=Europe/London:20211129T173000
DTEND;TZID=Europe/London:20211129T183000
DTSTAMP:20260422T232808
CREATED:20211105T142723Z
LAST-MODIFIED:20211105T142723Z
UID:8559-1638207000-1638210600@www.m4rd.org
SUMMARY:The genetics of consanguinity and inherited risk
DESCRIPTION:This webinar aims to explore the issues and management of risks related to endogamy and consanguinity and will highlight new advances in pre-natal screening protocols. Consanguineous marriage is still practiced by over 30% of the world’s population and in some areas\, the prevalence is as high as 60%. Advances in next-generation gene sequencing have led to a better understanding of pre-emptive carrier risk assessments and adult-onset disease risks. \nCPD accredited. \nFree for RSM members.
URL:https://www.m4rd.org/event/the-genetics-of-consanguinity-and-inherited-risk/
LOCATION:ONLINE
CATEGORIES:Genetics,Royal Society of Medicine,Webinar
ATTACH;FMTTYPE=image/jpeg:https://www.m4rd.org/wp-content/uploads/2021/11/unnamed-20.jpg
END:VEVENT
END:VCALENDAR