BEGIN:VCALENDAR
VERSION:2.0
PRODID:-//Medics For Rare Disease - ECPv6.15.20//NONSGML v1.0//EN
CALSCALE:GREGORIAN
METHOD:PUBLISH
X-WR-CALNAME:Medics For Rare Disease
X-ORIGINAL-URL:https://www.m4rd.org
X-WR-CALDESC:Events for Medics For Rare Disease
REFRESH-INTERVAL;VALUE=DURATION:PT1H
X-Robots-Tag:noindex
X-PUBLISHED-TTL:PT1H
BEGIN:VTIMEZONE
TZID:Europe/London
BEGIN:DAYLIGHT
TZOFFSETFROM:+0000
TZOFFSETTO:+0100
TZNAME:BST
DTSTART:20190331T010000
END:DAYLIGHT
BEGIN:STANDARD
TZOFFSETFROM:+0100
TZOFFSETTO:+0000
TZNAME:GMT
DTSTART:20191027T010000
END:STANDARD
BEGIN:DAYLIGHT
TZOFFSETFROM:+0000
TZOFFSETTO:+0100
TZNAME:BST
DTSTART:20200329T010000
END:DAYLIGHT
BEGIN:STANDARD
TZOFFSETFROM:+0100
TZOFFSETTO:+0000
TZNAME:GMT
DTSTART:20201025T010000
END:STANDARD
BEGIN:DAYLIGHT
TZOFFSETFROM:+0000
TZOFFSETTO:+0100
TZNAME:BST
DTSTART:20210328T010000
END:DAYLIGHT
BEGIN:STANDARD
TZOFFSETFROM:+0100
TZOFFSETTO:+0000
TZNAME:GMT
DTSTART:20211031T010000
END:STANDARD
END:VTIMEZONE
BEGIN:VEVENT
DTSTART;TZID=Europe/London:20200203T180000
DTEND;TZID=Europe/London:20200203T210000
DTSTAMP:20260426T004938
CREATED:20200121T174830Z
LAST-MODIFIED:20200121T175410Z
UID:6199-1580752800-1580763600@www.m4rd.org
SUMMARY:Rare disease spotlight: Aspergillosis
DESCRIPTION:In collaboration Barts & The London\, we will be shining the spotlight on Aspergillosis\nFran Pearson\, a patient who was diagnosed with Aspergillosis and Dr Darius Armstrong\, a consultant in Infectious Disease and Mycology will be hosting this event. \nYou will have the opportunity to learn more about the patient’s experience of being diagnosed with a rare infectious disease and the challenges faced by doctors when diagnosing patients with infectious diseases.
URL:https://www.m4rd.org/event/rare-disease-spotlight-aspergillosis/
LOCATION:Barts & The London School of Medicine – Garrod Building\, London\, E1 2\, United Kingdom
CATEGORIES:Lectures,Rare Diseases
ATTACH;FMTTYPE=image/jpeg:https://www.m4rd.org/wp-content/uploads/2020/01/78594149_1024621827885798_1782227981196853248_o-2-e1579628377278.jpg
END:VEVENT
END:VCALENDAR