BEGIN:VCALENDAR
VERSION:2.0
PRODID:-//Medics For Rare Disease - ECPv6.15.20//NONSGML v1.0//EN
CALSCALE:GREGORIAN
METHOD:PUBLISH
X-ORIGINAL-URL:https://www.m4rd.org
X-WR-CALDESC:Events for Medics For Rare Disease
REFRESH-INTERVAL;VALUE=DURATION:PT1H
X-Robots-Tag:noindex
X-PUBLISHED-TTL:PT1H
BEGIN:VTIMEZONE
TZID:Europe/London
BEGIN:DAYLIGHT
TZOFFSETFROM:+0000
TZOFFSETTO:+0100
TZNAME:BST
DTSTART:20210328T010000
END:DAYLIGHT
BEGIN:STANDARD
TZOFFSETFROM:+0100
TZOFFSETTO:+0000
TZNAME:GMT
DTSTART:20211031T010000
END:STANDARD
BEGIN:DAYLIGHT
TZOFFSETFROM:+0000
TZOFFSETTO:+0100
TZNAME:BST
DTSTART:20220327T010000
END:DAYLIGHT
BEGIN:STANDARD
TZOFFSETFROM:+0100
TZOFFSETTO:+0000
TZNAME:GMT
DTSTART:20221030T010000
END:STANDARD
BEGIN:DAYLIGHT
TZOFFSETFROM:+0000
TZOFFSETTO:+0100
TZNAME:BST
DTSTART:20230326T010000
END:DAYLIGHT
BEGIN:STANDARD
TZOFFSETFROM:+0100
TZOFFSETTO:+0000
TZNAME:GMT
DTSTART:20231029T010000
END:STANDARD
END:VTIMEZONE
BEGIN:VEVENT
DTSTART;VALUE=DATE:20220627
DTEND;VALUE=DATE:20220702
DTSTAMP:20260424T070425
CREATED:20220315T114405Z
LAST-MODIFIED:20220315T114405Z
UID:9161-1656288000-1656719999@www.m4rd.org
SUMMARY:11th European Conference on Rare Disease & Orphan Products (ECRD)
DESCRIPTION:The European Conference on Rare Diseases & Orphan Products (ECRD) is recognised globally as the largest\, patient-led rare disease event in which collaborative dialogue\, learning and conversation takes place\, forming the groundwork to shape goal-driven rare disease policies and allow for important and innovative discussions on a national and an international level to take place. \nECRD 2022 will take place online on 27 June -1 July. \nLeading\, inspiring and engaging all stakeholders to take action\, the Conference is an unrivalled opportunity to network and exchange invaluable knowledge with over 1500 stakeholders in the rare disease community – patient advocates\, policy makers\, researchers\, clinicians\, healthcare professionals\, healthcare industry representatives\, academics\, payers\, regulators and Member State representatives. \nThis 11th edition follows a pivotal two-year Rare 2030 Foresight Study\, supported by the European Parliament and European Commission\, that guided a large-scale and multi-stakeholder reflection on rare disease policy in Europe through 2030. \nThe concluding recommendation of Rare2030 was the need for a new European policy framework on rare diseases with measurable and actionable goals. Current actions at Member State level alone\, or legislative changes in specific areas are not enough. We need a new European collective strategy for rare diseases to bring Member States’ commitment to rare diseases under a common umbrella and mark a step forward in the post-COVID world. \nThis ECRD will be a critical opportunity for all stakeholders to consider how to transform this exhaustive review of the strategy on rare diseases into a proposal of concrete actions ultimately creating the ecosystem required to address the unmet needs and persisting inequalities across Europe.
URL:https://www.m4rd.org/event/11th-european-conference-on-rare-disease-orphan-products-ecrd/
LOCATION:ONLINE
CATEGORIES:Conference,Lectures,Networking,Rare Diseases
ATTACH;FMTTYPE=image/png:https://www.m4rd.org/wp-content/uploads/2022/03/Word-Cloud_What-does-ECRD-mean-to-you.png
END:VEVENT
BEGIN:VEVENT
DTSTART;VALUE=DATE:20220714
DTEND;VALUE=DATE:20220715
DTSTAMP:20260424T070425
CREATED:20220630T103933Z
LAST-MODIFIED:20220630T103933Z
UID:9705-1657756800-1657843199@www.m4rd.org
SUMMARY:Showcase of Genomics across North Thames
DESCRIPTION:Join the North Thames Genomic Medicine Service showcase to find out how genomic medicine is transforming healthcare in their region. \nGenomic medicine is coming into every-day-practice for multi-disciplinary healthcare professionals across the NHS\, improving how we diagnose and treat patients of all ages with cancer and rare or inherited diseases.\nIn North London\, Essex and Hertfordshire\, the North Thames Genomic Medicine Service is delivering new genomic tests and redesigning pathways with clinical services to bring the benefits of genomics to patients across the region. \nIn this one day showcase you can find out how genomic medicine is changing healthcare in the region\, and hear about the new pathways now in place across many services.
URL:https://www.m4rd.org/event/showcase-of-genomics-across-north-thames/
LOCATION:UCL\, Gower Street\, London\, WC1E 6XA\, United Kingdom
CATEGORIES:Genomics,Lectures
ATTACH;FMTTYPE=image/webp:https://www.m4rd.org/wp-content/uploads/2022/06/https-cdn.evbuc_.com-images-286166509-349767685317-1-original.20220517-130451.webp
END:VEVENT
END:VCALENDAR