BEGIN:VCALENDAR
VERSION:2.0
PRODID:-//Medics For Rare Disease - ECPv6.15.20//NONSGML v1.0//EN
CALSCALE:GREGORIAN
METHOD:PUBLISH
X-ORIGINAL-URL:https://www.m4rd.org
X-WR-CALDESC:Events for Medics For Rare Disease
REFRESH-INTERVAL;VALUE=DURATION:PT1H
X-Robots-Tag:noindex
X-PUBLISHED-TTL:PT1H
BEGIN:VTIMEZONE
TZID:Europe/London
BEGIN:DAYLIGHT
TZOFFSETFROM:+0000
TZOFFSETTO:+0100
TZNAME:BST
DTSTART:20220327T010000
END:DAYLIGHT
BEGIN:STANDARD
TZOFFSETFROM:+0100
TZOFFSETTO:+0000
TZNAME:GMT
DTSTART:20221030T010000
END:STANDARD
BEGIN:DAYLIGHT
TZOFFSETFROM:+0000
TZOFFSETTO:+0100
TZNAME:BST
DTSTART:20230326T010000
END:DAYLIGHT
BEGIN:STANDARD
TZOFFSETFROM:+0100
TZOFFSETTO:+0000
TZNAME:GMT
DTSTART:20231029T010000
END:STANDARD
BEGIN:DAYLIGHT
TZOFFSETFROM:+0000
TZOFFSETTO:+0100
TZNAME:BST
DTSTART:20240331T010000
END:DAYLIGHT
BEGIN:STANDARD
TZOFFSETFROM:+0100
TZOFFSETTO:+0000
TZNAME:GMT
DTSTART:20241027T010000
END:STANDARD
END:VTIMEZONE
BEGIN:VEVENT
DTSTART;TZID=Europe/London:20230720T133000
DTEND;TZID=Europe/London:20230720T180000
DTSTAMP:20260422T212820
CREATED:20230531T133901Z
LAST-MODIFIED:20230531T143336Z
UID:10998-1689859800-1689876000@www.m4rd.org
SUMMARY:Medicine and Me: Young sudden cardiac death
DESCRIPTION:Medicine and Me meetings aim to provide an outline of current best practice and future updates for important conditions. They give a direct voice to patients and carers\, enabling them to discuss their concerns and reflections on the impact of diagnosis\, investigation and management. Physicians\, surgeons and indeed all healthcare professionals continue to learn from and be inspired to improve care by hearing directly from patients. \nIn the UK alone\, 12 seemingly healthy people under the age of 35 die from undiagnosed cardiac conditions every week\, otherwise known as young sudden cardiac death. \nJoin us for an event\, run in association with the charity Cardiac Risk in the Young\, to learn about the latest developments in our understanding of the causes and prevention of young sudden cardiac death\, and how to ensure the best quality of life for those living with diagnosed cardiac conditions. \nParticipants will have the opportunity to hear from some of the world’s leading experts in inherited cardiac conditions and ask questions about their experiences providing support and dealing with affected families. \nAttend this event to gain an understanding of: \n\nThe causes and prevention of young sudden cardiac death\nMethods for early identification of high-risk individuals\nProviding optimal care for patients with diagnosed cardiac conditions\nHow to manage and support affected families\nAreas where further research is needed\n\nGet your tickets here 
URL:https://www.m4rd.org/event/medicine-and-me/
LOCATION:Royal Society of Medicine\, 1 Wimpole Street\, London\, W1G 0AE\, United Kingdom
CATEGORIES:Conference,M4RD
ATTACH;FMTTYPE=image/jpeg:https://www.m4rd.org/wp-content/uploads/2023/05/unnamed.jpg
END:VEVENT
END:VCALENDAR