BEGIN:VCALENDAR
VERSION:2.0
PRODID:-//Medics For Rare Disease - ECPv6.15.20//NONSGML v1.0//EN
CALSCALE:GREGORIAN
METHOD:PUBLISH
X-WR-CALNAME:Medics For Rare Disease
X-ORIGINAL-URL:https://www.m4rd.org
X-WR-CALDESC:Events for Medics For Rare Disease
REFRESH-INTERVAL;VALUE=DURATION:PT1H
X-Robots-Tag:noindex
X-PUBLISHED-TTL:PT1H
BEGIN:VTIMEZONE
TZID:Europe/London
BEGIN:DAYLIGHT
TZOFFSETFROM:+0000
TZOFFSETTO:+0100
TZNAME:BST
DTSTART:20240331T010000
END:DAYLIGHT
BEGIN:STANDARD
TZOFFSETFROM:+0100
TZOFFSETTO:+0000
TZNAME:GMT
DTSTART:20241027T010000
END:STANDARD
BEGIN:DAYLIGHT
TZOFFSETFROM:+0000
TZOFFSETTO:+0100
TZNAME:BST
DTSTART:20250330T010000
END:DAYLIGHT
BEGIN:STANDARD
TZOFFSETFROM:+0100
TZOFFSETTO:+0000
TZNAME:GMT
DTSTART:20251026T010000
END:STANDARD
BEGIN:DAYLIGHT
TZOFFSETFROM:+0000
TZOFFSETTO:+0100
TZNAME:BST
DTSTART:20260329T010000
END:DAYLIGHT
BEGIN:STANDARD
TZOFFSETFROM:+0100
TZOFFSETTO:+0000
TZNAME:GMT
DTSTART:20261025T010000
END:STANDARD
END:VTIMEZONE
BEGIN:VEVENT
DTSTART;TZID=Europe/London:20251008T193000
DTEND;TZID=Europe/London:20251008T200000
DTSTAMP:20260423T102936
CREATED:20251008T143248Z
LAST-MODIFIED:20251008T143248Z
UID:13728-1759951800-1759953600@www.m4rd.org
SUMMARY:Ambassador Welcome Brew
DESCRIPTION:A short\, casual catch-up for Medics for Rare Disease Ambassadors (cohort 2024/25) starting their second year on the Programme. \nThese informal sessions allow the Ambassadors to ask questions of the team and each other and to share experiences and challenges to inspire each other!
URL:https://www.m4rd.org/event/ambassador-welcome-brew/
LOCATION:ONLINE
CATEGORIES:Ambassadors,M4RD,Webinar
ATTACH;FMTTYPE=image/jpeg:https://www.m4rd.org/wp-content/uploads/2025/10/https___cdn.evbuc_.com_images_1114015993_530843553353_1_original.jpeg
END:VEVENT
BEGIN:VEVENT
DTSTART;TZID=Europe/London:20251127T150000
DTEND;TZID=Europe/London:20251127T153000
DTSTAMP:20260423T102936
CREATED:20251017T123435Z
LAST-MODIFIED:20251017T123435Z
UID:13747-1764255600-1764257400@www.m4rd.org
SUMMARY:Brew & Banter: Alumni Edition
DESCRIPTION:Join our Medics for Rare Disease alumni online meetup: Brew & Banter Edition! ☕💬 \nReconnect with fellow alumni in this relaxed virtual catch-up. Hear updates from our current ambassadors\, share your experiences\, and explore ways to support and mentor the next generation of Medics for Rare Disease ambassadors. \nWe’d love your input on the format and topics that would be most inspiring or useful to discuss. Come ready to share\, listen\, and connect over a friendly virtual brew!
URL:https://www.m4rd.org/event/brew-banter-alumni-edition/
LOCATION:ONLINE
CATEGORIES:Ambassadors,M4RD,Networking
ATTACH;FMTTYPE=image/png:https://www.m4rd.org/wp-content/uploads/2025/10/Ambassador-Online-Brew-2.png
END:VEVENT
BEGIN:VEVENT
DTSTART;TZID=Europe/London:20251210T190000
DTEND;TZID=Europe/London:20251210T200000
DTSTAMP:20260423T102936
CREATED:20251010T133137Z
LAST-MODIFIED:20251023T212334Z
UID:13742-1765393200-1765396800@www.m4rd.org
SUMMARY:Rare 101: Train the Trainer – Plan Your Own Rare Disease Session
DESCRIPTION:Learn how to deliver engaging Rare Disease 101 talks with tips\, resources\, and insights from experienced ambassadors. \nThinking of running a Rare 101 training session in 2026? Whether you’re planning a full session or just have 10 minutes to introduce the basics\, this online training is designed to help you succeed. \nJoin our ambassadors—who have run successful sessions before—for an engaging and practical online workshop. Discover how to plan your own Rare 101 talk\, get inspired by real examples\, and access the resources you need to deliver a meaningful session. \nWhat to Expect: \nPractical Resources: Get tools and materials to help you plan and deliver your Rare 101 talk.\nExpert Insights: Learn the fundamentals of rare disease and understand how every healthcare professional can make a difference.\nTips & Tricks: Hear from ambassadors who have delivered sessions successfully.\nInteractive Q&A: Ask your questions and get advice from Helen\, our experienced trainer. \nSign up today to secure your spot and start planning your impactful Rare 101 session!
URL:https://www.m4rd.org/event/rare-101-train-the-trainer-plan-your-own-rare-disease-session/
LOCATION:ONLINE
CATEGORIES:Ambassadors,M4RD,Rare Diseases,workshop
ATTACH;FMTTYPE=image/png:https://www.m4rd.org/wp-content/uploads/2025/10/Ambassador-Rare-101-Train-The-Trainer-.png
END:VEVENT
END:VCALENDAR