BEGIN:VCALENDAR
VERSION:2.0
PRODID:-//Medics For Rare Disease - ECPv6.15.20//NONSGML v1.0//EN
CALSCALE:GREGORIAN
METHOD:PUBLISH
X-WR-CALNAME:Medics For Rare Disease
X-ORIGINAL-URL:https://www.m4rd.org
X-WR-CALDESC:Events for Medics For Rare Disease
REFRESH-INTERVAL;VALUE=DURATION:PT1H
X-Robots-Tag:noindex
X-PUBLISHED-TTL:PT1H
BEGIN:VTIMEZONE
TZID:Europe/London
BEGIN:DAYLIGHT
TZOFFSETFROM:+0000
TZOFFSETTO:+0100
TZNAME:BST
DTSTART:20180325T010000
END:DAYLIGHT
BEGIN:STANDARD
TZOFFSETFROM:+0100
TZOFFSETTO:+0000
TZNAME:GMT
DTSTART:20181028T010000
END:STANDARD
BEGIN:DAYLIGHT
TZOFFSETFROM:+0000
TZOFFSETTO:+0100
TZNAME:BST
DTSTART:20190331T010000
END:DAYLIGHT
BEGIN:STANDARD
TZOFFSETFROM:+0100
TZOFFSETTO:+0000
TZNAME:GMT
DTSTART:20191027T010000
END:STANDARD
BEGIN:DAYLIGHT
TZOFFSETFROM:+0000
TZOFFSETTO:+0100
TZNAME:BST
DTSTART:20200329T010000
END:DAYLIGHT
BEGIN:STANDARD
TZOFFSETFROM:+0100
TZOFFSETTO:+0000
TZNAME:GMT
DTSTART:20201025T010000
END:STANDARD
END:VTIMEZONE
BEGIN:VEVENT
DTSTART;TZID=Europe/London:20191101T180000
DTEND;TZID=Europe/London:20191101T210000
DTSTAMP:20260425T173514
CREATED:20190922T122007Z
LAST-MODIFIED:20191008T153121Z
UID:5824-1572631200-1572642000@www.m4rd.org
SUMMARY:A Puff of Smoke Book Launch and Exhibition
DESCRIPTION:A Puff of Smoke is a graphic memoir about what it is like to grow up with an illness that no one can diagnose.\nSarah Lippett spent eleven years suffering with symptoms from an unknown condition\, until she was diagnosed with the rare disease Moyamoya at the age of 17. \nFor the month of November(1st – 29th November) an exhibition will be held at The Centre For Better Health that will explore the wider themes of the memoir. \nJoin Sarah to celebrate the launch of the A Puff of Smoke on the 1st of November 6-9pm at The Centre for Better Health in London. Copies of the book will be available for purchase. \nDrinks will be available and everyone is welcome! \nConfirm your attendance on Evenbrite for the chance to WIN a FREE signed copy of A Puff of Smoke.
URL:https://www.m4rd.org/event/a-puff-of-smoke-book-launch-and-exhibition/
LOCATION:The Centre for Better Health\, 1A Darnley Road\, London\, E9 6QH\, United Kingdom
CATEGORIES:book launch,exhibition,Rare Diseases
ATTACH;FMTTYPE=image/jpeg:https://www.m4rd.org/wp-content/uploads/2019/09/posterforweb-e1569156065729.jpg
END:VEVENT
BEGIN:VEVENT
DTSTART;TZID=Europe/London:20191122T133000
DTEND;TZID=Europe/London:20191122T143000
DTSTAMP:20260425T173514
CREATED:20190922T123925Z
LAST-MODIFIED:20191008T153342Z
UID:5830-1574429400-1574433000@www.m4rd.org
SUMMARY:A Puff of Smoke Talk and Workshop w/ author and artist Sarah Lippett
DESCRIPTION:A Puff of Smoke (published by Jonathan Cape 7th November) is a graphic memoir about what it is like to grow up with an illness that no one can diagnose.\nSarah Lippett spent eleven years suffering with symptoms from an unknown condition\, until she was diagnosed with the rare disease Moyamoya at the age of 17. \nFor the month of November(1st – 29th November) an exhibition will be held at The Centre For Better Health that will explore the wider themes of the memoir. \nJoin Sarah as she talks through the process of revisiting her past and piecing it back together as a graphic memoir. The talk will be followed by a short workshop where participants are invited to create sequential narratives based on their own lived experiences. No drawing experience necesssary.  Book your place now.
URL:https://www.m4rd.org/event/a-puff-of-smoke-talk-and-workshop-w-author-and-artist-sarah-lippett/
LOCATION:The Centre for Better Health\, 1A Darnley Road\, London\, E9 6QH\, United Kingdom
CATEGORIES:Rare Diseases,workshop
ATTACH;FMTTYPE=image/jpeg:https://www.m4rd.org/wp-content/uploads/2019/09/A-Puff-of-Smoke-Cover-e1569156157319.jpg
END:VEVENT
END:VCALENDAR