BEGIN:VCALENDAR
VERSION:2.0
PRODID:-//Medics For Rare Disease - ECPv6.15.20//NONSGML v1.0//EN
CALSCALE:GREGORIAN
METHOD:PUBLISH
X-ORIGINAL-URL:https://www.m4rd.org
X-WR-CALDESC:Events for Medics For Rare Disease
REFRESH-INTERVAL;VALUE=DURATION:PT1H
X-Robots-Tag:noindex
X-PUBLISHED-TTL:PT1H
BEGIN:VTIMEZONE
TZID:Europe/London
BEGIN:DAYLIGHT
TZOFFSETFROM:+0000
TZOFFSETTO:+0100
TZNAME:BST
DTSTART:20190331T010000
END:DAYLIGHT
BEGIN:STANDARD
TZOFFSETFROM:+0100
TZOFFSETTO:+0000
TZNAME:GMT
DTSTART:20191027T010000
END:STANDARD
BEGIN:DAYLIGHT
TZOFFSETFROM:+0000
TZOFFSETTO:+0100
TZNAME:BST
DTSTART:20200329T010000
END:DAYLIGHT
BEGIN:STANDARD
TZOFFSETFROM:+0100
TZOFFSETTO:+0000
TZNAME:GMT
DTSTART:20201025T010000
END:STANDARD
BEGIN:DAYLIGHT
TZOFFSETFROM:+0000
TZOFFSETTO:+0100
TZNAME:BST
DTSTART:20210328T010000
END:DAYLIGHT
BEGIN:STANDARD
TZOFFSETFROM:+0100
TZOFFSETTO:+0000
TZNAME:GMT
DTSTART:20211031T010000
END:STANDARD
END:VTIMEZONE
BEGIN:VEVENT
DTSTART;TZID=Europe/London:20201214T173000
DTEND;TZID=Europe/London:20201214T173000
DTSTAMP:20260424T225907
CREATED:20201207T201909Z
LAST-MODIFIED:20201207T201909Z
UID:7439-1607967000-1607967000@www.m4rd.org
SUMMARY:Being rare: a patient tale of being diagnosed in an OSCE
DESCRIPTION:Wyburn-Mason syndrome. Ever heard of it? Dan Jeffries has\, and his insightful talk explores what it’s like living with one of the world’s rarest medical conditions – to then discover you have another one.\n\nBarts & The London Students for Rare Diseases are excited to invite you to their first online event of the year!\n\nThey’ll  be hearing from Dan Jeffries\, a well-known figure in the rare disease community. Dan is a Trustee for Medics 4 Rare Diseases\, a Volunteer Ambassador for The Pituitary Foundation and has spoken at numerous rare disease events around the world.\n\nThe event will be hosted on Zoom – please sign up via the form below and we will send you a link.
URL:https://www.m4rd.org/event/being-rare-a-patient-tale-of-being-diagnosed-in-an-osce/
LOCATION:ONLINE
CATEGORIES:Rare Diseases,Webinar
ATTACH;FMTTYPE=image/jpeg:https://www.m4rd.org/wp-content/uploads/2020/12/IMG_0392.jpg
END:VEVENT
END:VCALENDAR