BEGIN:VCALENDAR
VERSION:2.0
PRODID:-//Medics For Rare Disease - ECPv6.15.20//NONSGML v1.0//EN
CALSCALE:GREGORIAN
METHOD:PUBLISH
X-ORIGINAL-URL:https://www.m4rd.org
X-WR-CALDESC:Events for Medics For Rare Disease
REFRESH-INTERVAL;VALUE=DURATION:PT1H
X-Robots-Tag:noindex
X-PUBLISHED-TTL:PT1H
BEGIN:VTIMEZONE
TZID:Europe/London
BEGIN:DAYLIGHT
TZOFFSETFROM:+0000
TZOFFSETTO:+0100
TZNAME:BST
DTSTART:20200329T010000
END:DAYLIGHT
BEGIN:STANDARD
TZOFFSETFROM:+0100
TZOFFSETTO:+0000
TZNAME:GMT
DTSTART:20201025T010000
END:STANDARD
BEGIN:DAYLIGHT
TZOFFSETFROM:+0000
TZOFFSETTO:+0100
TZNAME:BST
DTSTART:20210328T010000
END:DAYLIGHT
BEGIN:STANDARD
TZOFFSETFROM:+0100
TZOFFSETTO:+0000
TZNAME:GMT
DTSTART:20211031T010000
END:STANDARD
BEGIN:DAYLIGHT
TZOFFSETFROM:+0000
TZOFFSETTO:+0100
TZNAME:BST
DTSTART:20220327T010000
END:DAYLIGHT
BEGIN:STANDARD
TZOFFSETFROM:+0100
TZOFFSETTO:+0000
TZNAME:GMT
DTSTART:20221030T010000
END:STANDARD
END:VTIMEZONE
BEGIN:VEVENT
DTSTART;TZID=Europe/London:20210421T110000
DTEND;TZID=Europe/London:20210421T123000
DTSTAMP:20260424T163142
CREATED:20210416T095021Z
LAST-MODIFIED:20210416T095359Z
UID:7836-1619002800-1619008200@www.m4rd.org
SUMMARY:Ensuring inclusive communications around genetics
DESCRIPTION:Genetics is complex\, and talk of genetics\, and even science\, can turn many people off from engaging with clinicians or self-management of their conditions.\nFindacure is teaming up with charity Breaking Down Barriers to deliver an informative webinar on understanding genetics in the rare disease field. \n  \nThis webinar will:  \n\nHighlight the role of genetics as both a tool to access diagnoses and understanding of rare conditions\, and a barrier to understand and discuss these diseases and their inheritance. \nHighlight case studies of what others in the rare community are doing to support with genetic diagnoses \nSignpost to pre-existing resources that your patient organisation can access
URL:https://www.m4rd.org/event/ensuring-inclusive-communications-around-genetics/
LOCATION:ONLINE
CATEGORIES:Genetics,Rare Diseases,Webinar
ATTACH;FMTTYPE=image/png:https://www.m4rd.org/wp-content/uploads/2021/04/Genetics-banner-image3.png
ORGANIZER;CN="Findacure":MAILTO:maryrose@findacure.org.uk
END:VEVENT
END:VCALENDAR