BEGIN:VCALENDAR
VERSION:2.0
PRODID:-//Medics For Rare Disease - ECPv6.15.20//NONSGML v1.0//EN
CALSCALE:GREGORIAN
METHOD:PUBLISH
X-ORIGINAL-URL:https://www.m4rd.org
X-WR-CALDESC:Events for Medics For Rare Disease
REFRESH-INTERVAL;VALUE=DURATION:PT1H
X-Robots-Tag:noindex
X-PUBLISHED-TTL:PT1H
BEGIN:VTIMEZONE
TZID:Europe/London
BEGIN:DAYLIGHT
TZOFFSETFROM:+0000
TZOFFSETTO:+0100
TZNAME:BST
DTSTART:20200329T010000
END:DAYLIGHT
BEGIN:STANDARD
TZOFFSETFROM:+0100
TZOFFSETTO:+0000
TZNAME:GMT
DTSTART:20201025T010000
END:STANDARD
BEGIN:DAYLIGHT
TZOFFSETFROM:+0000
TZOFFSETTO:+0100
TZNAME:BST
DTSTART:20210328T010000
END:DAYLIGHT
BEGIN:STANDARD
TZOFFSETFROM:+0100
TZOFFSETTO:+0000
TZNAME:GMT
DTSTART:20211031T010000
END:STANDARD
BEGIN:DAYLIGHT
TZOFFSETFROM:+0000
TZOFFSETTO:+0100
TZNAME:BST
DTSTART:20220327T010000
END:DAYLIGHT
BEGIN:STANDARD
TZOFFSETFROM:+0100
TZOFFSETTO:+0000
TZNAME:GMT
DTSTART:20221030T010000
END:STANDARD
END:VTIMEZONE
BEGIN:VEVENT
DTSTART;TZID=Europe/London:20210610T150000
DTEND;TZID=Europe/London:20210610T210000
DTSTAMP:20260424T133434
CREATED:20210507T100350Z
LAST-MODIFIED:20210507T100350Z
UID:7916-1623337200-1623358800@www.m4rd.org
SUMMARY:Precision Medicine & Rare Disease
DESCRIPTION:If you work in rare diseases or rare disorders\, this conference is one you cannot miss. Come and hear talks and discussions by leaders in academia\, biotech\, pharmaceuticals\, diagnostics\, clinical research\, informatics\, healthcare and regulatory bodies at the world’s most informative virtual conference.\nPatients living with rare diseases are often persistently misdiagnosed or undiagnosed\, potentially resulting in no treatment at all or treatments that are ineffective or unsafe.  Due to the lack of definitive diagnostics or efficacious and safe therapies\, foundations and research centers have been raising funds for re-purposing existing therapeutics or developing new drugs (typically classified with an orphan drug status).  As the development of biomarkers and genetic signatures continues to progress\, techniques and technologies are anticipated to become more precise and comprehensive\, thereby reducing the time to rare disease diagnoses. \nThis conference will cover the following topics and more: \n\nExperiences from all parties – patient journeys\, doctors’ consultations\, payer perspectives\nRecruiting rare disease patients for clinical trials\nTools that allow online access for patients\, doctors\, data sets\, multi-participant meetings\nChallenges of treating rare disease patients and families during a pandemic\nHow large\, medium\, and small companies in pharma\, clinical\, and diagnostic groups are addressing rare disease challenges\, including translational medicine\, data analysis\, economic modeling\, real-world data capture
URL:https://www.m4rd.org/event/precision-medicine-rare-disease/
LOCATION:ONLINE
CATEGORIES:Drug repurposing,Public health,Rare Diseases,Webinar
ATTACH;FMTTYPE=image/png:https://www.m4rd.org/wp-content/uploads/2021/05/Screenshot-2021-05-07-at-10.54.12.png
END:VEVENT
BEGIN:VEVENT
DTSTART;VALUE=DATE:20210615
DTEND;VALUE=DATE:20210617
DTSTAMP:20260424T133434
CREATED:20210416T095306Z
LAST-MODIFIED:20210416T095306Z
UID:7839-1623715200-1623887999@www.m4rd.org
SUMMARY:Drug Repurposing for Rare Diseases 2021
DESCRIPTION:Findacure’s Drug Repurposing for Rare Diseases Conference is back for an eighth year\, and this time\, it’s gone virtual!\nNaturally\, this year’s conference will be a little different. COVID-19 has forced us online\, but in grabbing the word’s attention\, it has also become the poster boy for the power of drug repurposing. In a matter of months\, scientists successfully repurposed dexamethasone to treat COVID-19\, so why can’t the same urgency be applied to rare diseases?
URL:https://www.m4rd.org/event/drug-repurposing-for-rare-diseases-2021/
LOCATION:ONLINE
CATEGORIES:Conference,Drug repurposing,Rare Diseases,Research,Webinar
ATTACH;FMTTYPE=image/png:https://www.m4rd.org/wp-content/uploads/2021/04/Findacure-DrugRepo2020-254-768x512-1.png
ORGANIZER;CN="Findacure":MAILTO:maryrose@findacure.org.uk
END:VEVENT
BEGIN:VEVENT
DTSTART;VALUE=DATE:20210621
DTEND;VALUE=DATE:20210726
DTSTAMP:20260424T133434
CREATED:20210225T100440Z
LAST-MODIFIED:20210225T100440Z
UID:7726-1624233600-1627257599@www.m4rd.org
SUMMARY:EURORDIS Summer School
DESCRIPTION:EURORDIS Summer School aims to provide rare disease patient advocates with the knowledge and skills needed to become experts in medicines research and development. Since 2015\, researchers are also welcome to attend the Summer School.\nThe EURORDIS Summer School training covers topics including: clinical trials methodology\, clinical research\, ethics in medicines development\, regulatory affairs\, health technology assessment and marketing authorisation. \nThe 2021 edition of the EURORDIS Summer School will take place on 21-25 June 2020\, exceptionally online\, due to the COVID-19 pandemic. \nAhead of the online training week\, participants take part in 3 pre-training webinars and complete a selection of the online modules listed below. \nTake part in free online training
URL:https://www.m4rd.org/event/eurordis-summer-school/
LOCATION:ONLINE
CATEGORIES:Rare Diseases,Webinar
ATTACH;FMTTYPE=image/jpeg:https://www.m4rd.org/wp-content/uploads/2021/02/summerschool.jpg
END:VEVENT
BEGIN:VEVENT
DTSTART;TZID=Europe/London:20210630T093000
DTEND;TZID=Europe/London:20210630T153000
DTSTAMP:20260424T133434
CREATED:20210608T084319Z
LAST-MODIFIED:20210608T084319Z
UID:8175-1625045400-1625067000@www.m4rd.org
SUMMARY:Diverse Discoveries and Inclusive Insights Conference
DESCRIPTION:Come together with like minded professionals who have a passion to ensure no one is left behind. \n\nHear from organisations who are leading the way in engaging with our diverse and multi-cultural society\, the importance of the language used\, developments in genetics and how health inequalities can have a devastating impact on the lives of families affected by genetic conditions. \n\nBreaking Down Barriers know that it is often the fear of offending that stops people from doing anything. This event is a safe space for people to learn from others and explore new innovative approaches to ensure your organisation is inclusive and diverse to meet the needs of the community you serve.\n\n\n\n\nTop Topics:\n\nHealth inequalities the challenges and solutions\nThe impact of doing nothing\nDevelopments in Genetics and pre-implantation diagnosis\nThe power of language\n\nYou can register for this innovative event by following the link below: \nhttps://attendee.gotowebinar.com/register/7018232613206242062
URL:https://www.m4rd.org/event/diverse-discoveries-and-inclusive-insights-conference/
LOCATION:ONLINE
CATEGORIES:Conference,Genetics,Networking,Rare Diseases,Webinar
ATTACH;FMTTYPE=image/png:https://www.m4rd.org/wp-content/uploads/2021/06/Untitled-design-14.png
ORGANIZER;CN="Breaking Down Barriers":MAILTO:kerry.leeson@alstrom.org.uk
END:VEVENT
END:VCALENDAR