BEGIN:VCALENDAR
VERSION:2.0
PRODID:-//Medics For Rare Disease - ECPv6.15.20//NONSGML v1.0//EN
CALSCALE:GREGORIAN
METHOD:PUBLISH
X-WR-CALNAME:Medics For Rare Disease
X-ORIGINAL-URL:https://www.m4rd.org
X-WR-CALDESC:Events for Medics For Rare Disease
REFRESH-INTERVAL;VALUE=DURATION:PT1H
X-Robots-Tag:noindex
X-PUBLISHED-TTL:PT1H
BEGIN:VTIMEZONE
TZID:Europe/London
BEGIN:DAYLIGHT
TZOFFSETFROM:+0000
TZOFFSETTO:+0100
TZNAME:BST
DTSTART:20210328T010000
END:DAYLIGHT
BEGIN:STANDARD
TZOFFSETFROM:+0100
TZOFFSETTO:+0000
TZNAME:GMT
DTSTART:20211031T010000
END:STANDARD
BEGIN:DAYLIGHT
TZOFFSETFROM:+0000
TZOFFSETTO:+0100
TZNAME:BST
DTSTART:20220327T010000
END:DAYLIGHT
BEGIN:STANDARD
TZOFFSETFROM:+0100
TZOFFSETTO:+0000
TZNAME:GMT
DTSTART:20221030T010000
END:STANDARD
BEGIN:DAYLIGHT
TZOFFSETFROM:+0000
TZOFFSETTO:+0100
TZNAME:BST
DTSTART:20230326T010000
END:DAYLIGHT
BEGIN:STANDARD
TZOFFSETFROM:+0100
TZOFFSETTO:+0000
TZNAME:GMT
DTSTART:20231029T010000
END:STANDARD
END:VTIMEZONE
BEGIN:VEVENT
DTSTART;TZID=Europe/London:20221118T090000
DTEND;TZID=Europe/London:20221118T120000
DTSTAMP:20260423T092432
CREATED:20220928T101153Z
LAST-MODIFIED:20220928T101310Z
UID:10090-1668762000-1668772800@www.m4rd.org
SUMMARY:Understanding ME/CFS\, symptom crossover with hEDS/HSD and implications for Long Covid
DESCRIPTION:Dr Sue Pemberton PhD is a qualified occupational therapist who was involved in setting up the Leeds based Chronic Fatigue Syndrome Service in 1990\, one of the first NHS clinics specifically for the condition. She wrote the original therapy programme and worked clinically with the service for over 22 years\, in addition to holding a number of management positions within the NHS. \nSue has co-authored the self-help manual Fighting Fatigue: a practical guide to managing the symptoms of CFS/ME\, Hammersmith Press and contributed to the British Association for CFS/ME Therapists Manual. \nSue will explore the implications of Chronic Fatigue Syndrome and Long Covid
URL:https://www.m4rd.org/event/10090/
LOCATION:LIVE STREAM
CATEGORIES:HCPs,Rare Diseases
ATTACH;FMTTYPE=image/png:https://www.m4rd.org/wp-content/uploads/2022/09/sue-p.png
END:VEVENT
BEGIN:VEVENT
DTSTART;VALUE=DATE:20221124
DTEND;VALUE=DATE:20221126
DTSTAMP:20260423T092432
CREATED:20220916T115556Z
LAST-MODIFIED:20220916T115556Z
UID:9978-1669248000-1669420799@www.m4rd.org
SUMMARY:Get Started with Genomics CPD Course
DESCRIPTION:The implementation of next-generation sequencing technologies has enabled genomics to become a mainstream subject in medicine. The UK has now adopted Whole Genome Sequencing (WGS) in clinical practice\, and the use of genomic sequencing technologies in healthcare has become widespread across many countries. Healthcare professionals across the world need the skills to understand genomics and what it means for their patients. \nThis course will provide participants with the basic principles of genomic medicine. The content will include the distinction between genetics and genomics and a focus on understanding the different modes of inheritance. With a focus on practical case studies and a workshop-style of delivery\, the course will offer the opportunity to engage with academics and fellow participants and build collaborative networks. \nCourse Leads\nProfessor Anna Murray – Associate Professor in Human Genetics\nDr Julia Baptista – Lecturer in Clinical Education\nSee the Speakers page for the full faculty list. \nDelivery Dates and Format\nThe course will be delivered on 24th and 25th Nov 2022 in a hybrid format (virtually and in-person at the University of Exeter) \nWho is it for?\nThe course is aimed at clinicians and other healthcare professionals who need an introductory course in genomics. This course would be an ideal access course for those wishing to pursue further studies\, in particular the MSc in Genomic Medicine. \nLearning Outcomes\nAt the end of the course the learner will be expected to be able to: \n\nDefine the key concepts of genetics and genomics\nUnderstand the main approaches to genomic testing and principles of variant classification\nUnderstand the main modes of inheritance in humans (autosomal dominant\, autosomal recessive\, X-linked\, and mitochondrial) and recognise their characteristic features and patterns\nUnderstand that genetic disorders might be inherited from an affected parent\, an unaffected parent\, both unaffected parents or arise spontaneously\nApply the knowledge of mode of inheritance in the context of a clinical report and the given family scenario\nBecome familiar with the basics of genome browsers to view gene information and interpret genomic information in clinical reports\n\nCertificate and Accreditation\nParticipants will receive a certificate of participation including both CPD points applied for through the Royal College of Physicians and learning outcomes\, which can be used towards your own professional development. \nFor more details about the course including fees and delivery see the course details page.
URL:https://www.m4rd.org/event/get-started-with-genomics-cpd-course/
LOCATION:University of Exeter\, St Luke's Campus\, Heavitree Road\, Exeter\, EX1 2LU\, United Kingdom
CATEGORIES:Genomics,Medical Students,Rare Diseases
ATTACH;FMTTYPE=image/jpeg:https://www.m4rd.org/wp-content/uploads/2022/09/pexels-edward-jenner-4033148.jpg
ORGANIZER;CN="University of Exeter Medical School":MAILTO:UEMS_CPD@exeter.ac.uk
END:VEVENT
BEGIN:VEVENT
DTSTART;VALUE=DATE:20221126
DTEND;VALUE=DATE:20221127
DTSTAMP:20260423T092432
CREATED:20220609T093342Z
LAST-MODIFIED:20220609T093342Z
UID:9581-1669420800-1669507199@www.m4rd.org
SUMMARY:RAREfest22: Educate\, Engage\, Empower
DESCRIPTION:FREE to attend\, RAREfest22 is a public-facing\, rare disease inspired festival featuring interactive talks\, demos and exhibits\, film and art showcasing ground-breaking science\, visionary technology and pioneering organisations improving lives and bringing hope to those living with rare conditions.\nAn award-winning festival that is as UNIQUE as the patients it champions. Featuring the brightest minds in rare disease research\, the innovators of life-changing tech\, the pioneers in rare disease medicine\, and the patients whose powerful voices must be heard. For the experts. For the curious. For everyone. For FREE. \nCambridge Rare Disease Network is a platform for change. It is the infrastructure that unites patients\, advocates\, experts and leaders to address the challenges faced by people affected by rare diseases. By sharing knowledge and experience\, and working together\, the journey toward s better diagnosis\, treatment and support for patients and their families is smoother and more certain. \nBook now
URL:https://www.m4rd.org/event/rarefest22-educate-engage-empower/
LOCATION:The Guildhall\, Market Square\, Cambridge\, CB2 3QB
CATEGORIES:exhibition,Festival,Genetics,Genomics,Networking,Patient advocacy,Rare Diseases
ATTACH;FMTTYPE=image/webp:https://www.m4rd.org/wp-content/uploads/2022/06/https-cdn.evbuc_.com-images-286969269-134598541307-1-original.20220518-133206.webp
ORGANIZER;CN="CRDN":MAILTO:jo@camraredisease.org
END:VEVENT
END:VCALENDAR