BEGIN:VCALENDAR
VERSION:2.0
PRODID:-//Medics For Rare Disease - ECPv6.15.20//NONSGML v1.0//EN
CALSCALE:GREGORIAN
METHOD:PUBLISH
X-ORIGINAL-URL:https://www.m4rd.org
X-WR-CALDESC:Events for Medics For Rare Disease
REFRESH-INTERVAL;VALUE=DURATION:PT1H
X-Robots-Tag:noindex
X-PUBLISHED-TTL:PT1H
BEGIN:VTIMEZONE
TZID:Europe/London
BEGIN:DAYLIGHT
TZOFFSETFROM:+0000
TZOFFSETTO:+0100
TZNAME:BST
DTSTART:20220327T010000
END:DAYLIGHT
BEGIN:STANDARD
TZOFFSETFROM:+0100
TZOFFSETTO:+0000
TZNAME:GMT
DTSTART:20221030T010000
END:STANDARD
BEGIN:DAYLIGHT
TZOFFSETFROM:+0000
TZOFFSETTO:+0100
TZNAME:BST
DTSTART:20230326T010000
END:DAYLIGHT
BEGIN:STANDARD
TZOFFSETFROM:+0100
TZOFFSETTO:+0000
TZNAME:GMT
DTSTART:20231029T010000
END:STANDARD
BEGIN:DAYLIGHT
TZOFFSETFROM:+0000
TZOFFSETTO:+0100
TZNAME:BST
DTSTART:20240331T010000
END:DAYLIGHT
BEGIN:STANDARD
TZOFFSETFROM:+0100
TZOFFSETTO:+0000
TZNAME:GMT
DTSTART:20241027T010000
END:STANDARD
END:VTIMEZONE
BEGIN:VEVENT
DTSTART;TZID=Europe/London:20230719T123000
DTEND;TZID=Europe/London:20230719T150000
DTSTAMP:20260422T201041
CREATED:20230710T103746Z
LAST-MODIFIED:20230710T103746Z
UID:11098-1689769800-1689778800@www.m4rd.org
SUMMARY:Rare @ Manchester - 1st Anniversary Celebration Event
DESCRIPTION:We are thrilled to invite you to this special event to mark the one-year anniversary of the Manchester Rare Conditions Centre. \nThis event will highlight the significant strides Manchester has made in improving the lives of individuals with rare conditions. \nThe aim of this celebration is to showcase the progress the centre has made in the last year\, with speakers from our specialist clinical services\, our research theme and academy. \nFull agenda to be announced. \nDue to limited capacity we encourage you to confirm your attendance as soon as possible.
URL:https://www.m4rd.org/event/rare-manchester-1st-anniversary-celebration-event/
LOCATION:Citylabs 1.0 Nelson Street Manchester M13 9NQ
CATEGORIES:Conference,Rare Diseases
ATTACH;FMTTYPE=image/jpeg:https://www.m4rd.org/wp-content/uploads/2023/07/manchester-rare-conditions-centre.jpeg
END:VEVENT
END:VCALENDAR