BEGIN:VCALENDAR
VERSION:2.0
PRODID:-//Medics For Rare Disease - ECPv6.15.20//NONSGML v1.0//EN
CALSCALE:GREGORIAN
METHOD:PUBLISH
X-WR-CALNAME:Medics For Rare Disease
X-ORIGINAL-URL:https://www.m4rd.org
X-WR-CALDESC:Events for Medics For Rare Disease
REFRESH-INTERVAL;VALUE=DURATION:PT1H
X-Robots-Tag:noindex
X-PUBLISHED-TTL:PT1H
BEGIN:VTIMEZONE
TZID:Europe/London
BEGIN:DAYLIGHT
TZOFFSETFROM:+0000
TZOFFSETTO:+0100
TZNAME:BST
DTSTART:20220327T010000
END:DAYLIGHT
BEGIN:STANDARD
TZOFFSETFROM:+0100
TZOFFSETTO:+0000
TZNAME:GMT
DTSTART:20221030T010000
END:STANDARD
BEGIN:DAYLIGHT
TZOFFSETFROM:+0000
TZOFFSETTO:+0100
TZNAME:BST
DTSTART:20230326T010000
END:DAYLIGHT
BEGIN:STANDARD
TZOFFSETFROM:+0100
TZOFFSETTO:+0000
TZNAME:GMT
DTSTART:20231029T010000
END:STANDARD
BEGIN:DAYLIGHT
TZOFFSETFROM:+0000
TZOFFSETTO:+0100
TZNAME:BST
DTSTART:20240331T010000
END:DAYLIGHT
BEGIN:STANDARD
TZOFFSETFROM:+0100
TZOFFSETTO:+0000
TZNAME:GMT
DTSTART:20241027T010000
END:STANDARD
END:VTIMEZONE
BEGIN:VEVENT
DTSTART;VALUE=DATE:20231013
DTEND;VALUE=DATE:20231015
DTSTAMP:20260422T165148
CREATED:20230627T145330Z
LAST-MODIFIED:20230627T145330Z
UID:11074-1697155200-1697327999@www.m4rd.org
SUMMARY:The BHD Symposium
DESCRIPTION:We are delighted to be hosting our first hybrid BHD Symposium on 13 and 14 October 2023 in London\, UK\, and online. \nThis is the first time we will be bringing together the whole BHD research community in person since 2015. The event will showcase the current research into BHD and folliculin and we hope it will provide a space for new collaborations to accelerate future research. \nThis year’s symposium is a hybrid event with the aim to reach as many people across the world as possible. You can book tickets to join us either online or in person in London\, UK. \nEmail us with any questions at bhdsymposia@myrovlytistrust.org
URL:https://www.m4rd.org/event/the-bhd-symposium/
LOCATION:Wellcome Collection 183 Euston Road London NW1 2BE
CATEGORIES:Conference
ATTACH;FMTTYPE=image/jpeg:https://www.m4rd.org/wp-content/uploads/2023/06/bhd-symposium-.jpeg
END:VEVENT
END:VCALENDAR