BEGIN:VCALENDAR
VERSION:2.0
PRODID:-//Medics For Rare Disease - ECPv6.15.20//NONSGML v1.0//EN
CALSCALE:GREGORIAN
METHOD:PUBLISH
X-ORIGINAL-URL:https://www.m4rd.org
X-WR-CALDESC:Events for Medics For Rare Disease
REFRESH-INTERVAL;VALUE=DURATION:PT1H
X-Robots-Tag:noindex
X-PUBLISHED-TTL:PT1H
BEGIN:VTIMEZONE
TZID:Europe/London
BEGIN:DAYLIGHT
TZOFFSETFROM:+0000
TZOFFSETTO:+0100
TZNAME:BST
DTSTART:20180325T010000
END:DAYLIGHT
BEGIN:STANDARD
TZOFFSETFROM:+0100
TZOFFSETTO:+0000
TZNAME:GMT
DTSTART:20181028T010000
END:STANDARD
BEGIN:DAYLIGHT
TZOFFSETFROM:+0000
TZOFFSETTO:+0100
TZNAME:BST
DTSTART:20190331T010000
END:DAYLIGHT
BEGIN:STANDARD
TZOFFSETFROM:+0100
TZOFFSETTO:+0000
TZNAME:GMT
DTSTART:20191027T010000
END:STANDARD
BEGIN:DAYLIGHT
TZOFFSETFROM:+0000
TZOFFSETTO:+0100
TZNAME:BST
DTSTART:20200329T010000
END:DAYLIGHT
BEGIN:STANDARD
TZOFFSETFROM:+0100
TZOFFSETTO:+0000
TZNAME:GMT
DTSTART:20201025T010000
END:STANDARD
END:VTIMEZONE
BEGIN:VEVENT
DTSTART;TZID=Europe/London:20190710T133000
DTEND;TZID=Europe/London:20190710T170000
DTSTAMP:20260420T023653
CREATED:20190529T195130Z
LAST-MODIFIED:20190606T210007Z
UID:5054-1562765400-1562778000@www.m4rd.org
SUMMARY:BPSU Tea Party
DESCRIPTION:The British Paediatric Surveillance Unit invites you to this year’s event to enjoy afternoon tea and cakes\, hear young people speak about their experience of living with rare disease and visit informational stands.\nThe BPSU rare disease tea party will bring together stakeholders from across the rare disease community to hear young people and patient advocates speak about their experience of living with rare disease and working in the rare disease field. \nThis event is intended to be an informal networking opportunity with children and young people and carers\, healthcare professionals\, researchers and policy makers.
URL:https://www.m4rd.org/event/bpsu-tea-party/
LOCATION:Royal College of Paediatrics and Child Health\, 5-11 Theobalds Road\, London\, WC1X 8SH\, United Kingdom
CATEGORIES:Child and Young Person,Family Day,Networking,paediatric,Patient Information Day,Rare Diseases
ATTACH;FMTTYPE=image/jpeg:https://www.m4rd.org/wp-content/uploads/2019/05/unnamed-2-e1559854793637.jpg
ORGANIZER;CN="BPSU":MAILTO:enquiries@rcpch.ac.uk
END:VEVENT
END:VCALENDAR