BEGIN:VCALENDAR
VERSION:2.0
PRODID:-//Medics For Rare Disease - ECPv6.15.20//NONSGML v1.0//EN
CALSCALE:GREGORIAN
METHOD:PUBLISH
X-WR-CALNAME:Medics For Rare Disease
X-ORIGINAL-URL:https://www.m4rd.org
X-WR-CALDESC:Events for Medics For Rare Disease
REFRESH-INTERVAL;VALUE=DURATION:PT1H
X-Robots-Tag:noindex
X-PUBLISHED-TTL:PT1H
BEGIN:VTIMEZONE
TZID:Europe/London
BEGIN:DAYLIGHT
TZOFFSETFROM:+0000
TZOFFSETTO:+0100
TZNAME:BST
DTSTART:20190331T010000
END:DAYLIGHT
BEGIN:STANDARD
TZOFFSETFROM:+0100
TZOFFSETTO:+0000
TZNAME:GMT
DTSTART:20191027T010000
END:STANDARD
BEGIN:DAYLIGHT
TZOFFSETFROM:+0000
TZOFFSETTO:+0100
TZNAME:BST
DTSTART:20200329T010000
END:DAYLIGHT
BEGIN:STANDARD
TZOFFSETFROM:+0100
TZOFFSETTO:+0000
TZNAME:GMT
DTSTART:20201025T010000
END:STANDARD
BEGIN:DAYLIGHT
TZOFFSETFROM:+0000
TZOFFSETTO:+0100
TZNAME:BST
DTSTART:20210328T010000
END:DAYLIGHT
BEGIN:STANDARD
TZOFFSETFROM:+0100
TZOFFSETTO:+0000
TZNAME:GMT
DTSTART:20211031T010000
END:STANDARD
END:VTIMEZONE
BEGIN:VEVENT
DTSTART;TZID=Europe/London:20201203T170000
DTEND;TZID=Europe/London:20201203T180000
DTSTAMP:20260423T064345
CREATED:20201009T083655Z
LAST-MODIFIED:20201009T083655Z
UID:7212-1607014800-1607018400@www.m4rd.org
SUMMARY:The genomic revolution: A practical guide to what you can’t afford not to know - Part 1
DESCRIPTION:This exciting 3-part webinar series sees representatives from NHS England give an up-to-date outline of the changes in genomic infrastructure which will transform the provision of genomic testing in the NHS.\nIn this first webinar\, top speakers will help clinicians understand how the increasing availability of state of the art genomic testing in the NHS will impact their day to day clinical practice. \nWebinar topics include: \n\nDiscuss recent advances in genomic testing and how they have been integrated into clinical testing pathways within the NHS\nUnderstand how genomic tests are generated\nFamiliarise yourself with the process of the clinical interpretation of genomic results
URL:https://www.m4rd.org/event/the-genomic-revolution-a-practical-guide-to-what-you-cant-afford-not-to-know-part-1/
CATEGORIES:Genomics,Webinar
ATTACH;FMTTYPE=image/jpeg:https://www.m4rd.org/wp-content/uploads/2019/08/genomics-e1565959314340.jpg
END:VEVENT
END:VCALENDAR