BEGIN:VCALENDAR
VERSION:2.0
PRODID:-//Medics For Rare Disease - ECPv6.15.20//NONSGML v1.0//EN
CALSCALE:GREGORIAN
METHOD:PUBLISH
X-WR-CALNAME:Medics For Rare Disease
X-ORIGINAL-URL:https://www.m4rd.org
X-WR-CALDESC:Events for Medics For Rare Disease
REFRESH-INTERVAL;VALUE=DURATION:PT1H
X-Robots-Tag:noindex
X-PUBLISHED-TTL:PT1H
BEGIN:VTIMEZONE
TZID:Europe/London
BEGIN:DAYLIGHT
TZOFFSETFROM:+0000
TZOFFSETTO:+0100
TZNAME:BST
DTSTART:20200329T010000
END:DAYLIGHT
BEGIN:STANDARD
TZOFFSETFROM:+0100
TZOFFSETTO:+0000
TZNAME:GMT
DTSTART:20201025T010000
END:STANDARD
BEGIN:DAYLIGHT
TZOFFSETFROM:+0000
TZOFFSETTO:+0100
TZNAME:BST
DTSTART:20210328T010000
END:DAYLIGHT
BEGIN:STANDARD
TZOFFSETFROM:+0100
TZOFFSETTO:+0000
TZNAME:GMT
DTSTART:20211031T010000
END:STANDARD
BEGIN:DAYLIGHT
TZOFFSETFROM:+0000
TZOFFSETTO:+0100
TZNAME:BST
DTSTART:20220327T010000
END:DAYLIGHT
BEGIN:STANDARD
TZOFFSETFROM:+0100
TZOFFSETTO:+0000
TZNAME:GMT
DTSTART:20221030T010000
END:STANDARD
END:VTIMEZONE
BEGIN:VEVENT
DTSTART;TZID=Europe/London:20211101T120000
DTEND;TZID=Europe/London:20211101T124500
DTSTAMP:20260422T133014
CREATED:20211006T131231Z
LAST-MODIFIED:20211006T131231Z
UID:8471-1635768000-1635770700@www.m4rd.org
SUMMARY:Rare disease education: insights on what clinicians know\, want and need
DESCRIPTION:SAVE THE DATE \nAn opportunity for clinicians and rare disease patient advocacy groups/advocates to come along to a lunchtime webinar with Medscape to hear about their large physician survey on rare diseases and best practices in rare disease education. \nDr Lucy McKay (CEO M4RD) and Dr Will Evans (Leeds and PRISM Group and Clinical Lead at Mendelian Health) will join Medscape’s Clinical Strategist S Christy Rohani-Montez and Director of Strategic Partnerships\, Jennifer Bomberger to discuss rare disease education and give insights on what clinicians know\, want and need!
URL:https://www.m4rd.org/event/rare-disease-education-insights-on-what-clinicians-know-want-and-need/
LOCATION:ONLINE
CATEGORIES:clinical,Lunch & learn,Rare Diseases,Webinar
ATTACH;FMTTYPE=image/jpeg:https://www.m4rd.org/wp-content/uploads/2021/10/1633446900824.jpeg
ORGANIZER;CN="Medscape Education Global":MAILTO:aduncan@webmd.net
END:VEVENT
END:VCALENDAR