BEGIN:VCALENDAR
VERSION:2.0
PRODID:-//Medics For Rare Disease - ECPv6.15.20//NONSGML v1.0//EN
CALSCALE:GREGORIAN
METHOD:PUBLISH
X-WR-CALNAME:Medics For Rare Disease
X-ORIGINAL-URL:https://www.m4rd.org
X-WR-CALDESC:Events for Medics For Rare Disease
REFRESH-INTERVAL;VALUE=DURATION:PT1H
X-Robots-Tag:noindex
X-PUBLISHED-TTL:PT1H
BEGIN:VTIMEZONE
TZID:Europe/London
BEGIN:DAYLIGHT
TZOFFSETFROM:+0000
TZOFFSETTO:+0100
TZNAME:BST
DTSTART:20210328T010000
END:DAYLIGHT
BEGIN:STANDARD
TZOFFSETFROM:+0100
TZOFFSETTO:+0000
TZNAME:GMT
DTSTART:20211031T010000
END:STANDARD
BEGIN:DAYLIGHT
TZOFFSETFROM:+0000
TZOFFSETTO:+0100
TZNAME:BST
DTSTART:20220327T010000
END:DAYLIGHT
BEGIN:STANDARD
TZOFFSETFROM:+0100
TZOFFSETTO:+0000
TZNAME:GMT
DTSTART:20221030T010000
END:STANDARD
BEGIN:DAYLIGHT
TZOFFSETFROM:+0000
TZOFFSETTO:+0100
TZNAME:BST
DTSTART:20230326T010000
END:DAYLIGHT
BEGIN:STANDARD
TZOFFSETFROM:+0100
TZOFFSETTO:+0000
TZNAME:GMT
DTSTART:20231029T010000
END:STANDARD
END:VTIMEZONE
BEGIN:VEVENT
DTSTART;TZID=Europe/London:20221021T090000
DTEND;TZID=Europe/London:20221021T130000
DTSTAMP:20260423T065026
CREATED:20220928T100847Z
LAST-MODIFIED:20220928T101534Z
UID:10084-1666342800-1666357200@www.m4rd.org
SUMMARY:Hypermobility spectrum disorders(HSD) and Hypermobile Ehlers-Danlos syndrome (hED)
DESCRIPTION:Training for Health Professionals on hypermobility spectrum disorders(HSD) and Hypermobile Ehlers-Danlos syndrome (hEDS) \nThe online course includes presentations and interactive case-based sessions for Health Professionals and those who wish to gain further knowledge and advance their clinical practice in assessing and management children and adults with Hypermobility Spectrum Disorders\, Hypermobile Ehlers Danlos Syndromes and associated conditions.
URL:https://www.m4rd.org/event/training-for-health-professionals-hsd-heds/
LOCATION:LIVE STREAM
CATEGORIES:HCPs,Rare Diseases
ATTACH;FMTTYPE=image/png:https://www.m4rd.org/wp-content/uploads/2022/09/TRAINI1.png
END:VEVENT
END:VCALENDAR