BEGIN:VCALENDAR
VERSION:2.0
PRODID:-//Medics For Rare Disease - ECPv6.15.20//NONSGML v1.0//EN
CALSCALE:GREGORIAN
METHOD:PUBLISH
X-WR-CALNAME:Medics For Rare Disease
X-ORIGINAL-URL:https://www.m4rd.org
X-WR-CALDESC:Events for Medics For Rare Disease
REFRESH-INTERVAL;VALUE=DURATION:PT1H
X-Robots-Tag:noindex
X-PUBLISHED-TTL:PT1H
BEGIN:VTIMEZONE
TZID:Europe/London
BEGIN:DAYLIGHT
TZOFFSETFROM:+0000
TZOFFSETTO:+0100
TZNAME:BST
DTSTART:20200329T010000
END:DAYLIGHT
BEGIN:STANDARD
TZOFFSETFROM:+0100
TZOFFSETTO:+0000
TZNAME:GMT
DTSTART:20201025T010000
END:STANDARD
BEGIN:DAYLIGHT
TZOFFSETFROM:+0000
TZOFFSETTO:+0100
TZNAME:BST
DTSTART:20210328T010000
END:DAYLIGHT
BEGIN:STANDARD
TZOFFSETFROM:+0100
TZOFFSETTO:+0000
TZNAME:GMT
DTSTART:20211031T010000
END:STANDARD
BEGIN:DAYLIGHT
TZOFFSETFROM:+0000
TZOFFSETTO:+0100
TZNAME:BST
DTSTART:20220327T010000
END:DAYLIGHT
BEGIN:STANDARD
TZOFFSETFROM:+0100
TZOFFSETTO:+0000
TZNAME:GMT
DTSTART:20221030T010000
END:STANDARD
END:VTIMEZONE
BEGIN:VEVENT
DTSTART;TZID=Europe/London:20211214T110000
DTEND;TZID=Europe/London:20211214T123000
DTSTAMP:20260423T190633
CREATED:20211119T093833Z
LAST-MODIFIED:20211119T093833Z
UID:8625-1639479600-1639485000@www.m4rd.org
SUMMARY:Maximising engagement with healthcare professionals
DESCRIPTION:Join this webinar to explore the practical things patient groups can do to make sure they are engaging with HCPs in the most beneficial way.\nMost rare diseases are not concentrated in one area or country and do not affect one singular body system\, which makes finding healthcare professionals (HCPs) or specialists who understand them a real challenge for patients and patient organisations. Yet\, it is often a top strategic priority for patient organisations to find and engage with these professionals to drive faster diagnoses\, better understanding of and research into rare conditions. \nThis can be a real challenge when most HCPs have a very limited knowledge of rare conditions. HCPs often look straight to google for their research where they can be met with misinformation and do not always find the patient organisations that are the real experts straight away. Thus\, it falls onto the shoulders of these patient organisations to make themselves more visible and receptive to engagement with healthcare professionals. Whether at a basic operational level\, an organisational level\, through external collaborations or even by working with the organisations such as the NHS and NICE. \n\n\n\n\nThis webinar will:  \n\n\n\n\n\n\n\n\n\n\n\n\n\nExplore the different levels on which patient organisations can base their engagement with medical professionals\nCover the practical things patients can do (no matter what size or capacity) to engage efficiently and sustainably with HCPs\nHighlight case studies from across the rare space of what different patient groups are doing\n\nPlease note: This is the first in a series of two webinars which will explore engagement with HCPs. \n\n\n\n\n 
URL:https://www.m4rd.org/event/maximising-engagement-with-healthcare-professionals/
CATEGORIES:Patient advocacy,Rare Diseases,Webinar
ATTACH;FMTTYPE=image/png:https://www.m4rd.org/wp-content/uploads/2021/11/unnamed-13.png
ORGANIZER;CN="Findacure":MAILTO:maryrose@findacure.org.uk
END:VEVENT
END:VCALENDAR