BEGIN:VCALENDAR
VERSION:2.0
PRODID:-//Medics For Rare Disease - ECPv6.15.20//NONSGML v1.0//EN
CALSCALE:GREGORIAN
METHOD:PUBLISH
X-ORIGINAL-URL:https://www.m4rd.org
X-WR-CALDESC:Events for Medics For Rare Disease
REFRESH-INTERVAL;VALUE=DURATION:PT1H
X-Robots-Tag:noindex
X-PUBLISHED-TTL:PT1H
BEGIN:VTIMEZONE
TZID:Europe/London
BEGIN:DAYLIGHT
TZOFFSETFROM:+0000
TZOFFSETTO:+0100
TZNAME:BST
DTSTART:20210328T010000
END:DAYLIGHT
BEGIN:STANDARD
TZOFFSETFROM:+0100
TZOFFSETTO:+0000
TZNAME:GMT
DTSTART:20211031T010000
END:STANDARD
BEGIN:DAYLIGHT
TZOFFSETFROM:+0000
TZOFFSETTO:+0100
TZNAME:BST
DTSTART:20220327T010000
END:DAYLIGHT
BEGIN:STANDARD
TZOFFSETFROM:+0100
TZOFFSETTO:+0000
TZNAME:GMT
DTSTART:20221030T010000
END:STANDARD
BEGIN:DAYLIGHT
TZOFFSETFROM:+0000
TZOFFSETTO:+0100
TZNAME:BST
DTSTART:20230326T010000
END:DAYLIGHT
BEGIN:STANDARD
TZOFFSETFROM:+0100
TZOFFSETTO:+0000
TZNAME:GMT
DTSTART:20231029T010000
END:STANDARD
END:VTIMEZONE
BEGIN:VEVENT
DTSTART;TZID=Europe/London:20220613T173000
DTEND;TZID=Europe/London:20220613T183000
DTSTAMP:20260423T210148
CREATED:20220504T084323Z
LAST-MODIFIED:20220504T084323Z
UID:9302-1655141400-1655145000@www.m4rd.org
SUMMARY:The genetics of intellectual disability: Episode 15
DESCRIPTION:This webinar is part of the popular Genetics of webinar series and will provide an interesting update on the genetic origins of intellectual disability\, as well as explore what challenges remain in this area. \nOur speakers will explore what research is required after a genetic diagnosis of intellectual disability and what families would value the most from the diagnostic experience. This webinar is also a special chance to discuss what the experience of receiving a genetic diagnosis is like for patients and their families. \nDuring this webinar you will: \n\nUnderstand what we do know about the genetic origin of intellectual disabilities\nAppreciate the challenges and opportunities in research in this field\nRecognise how post-diagnostic research is important in order to understand the different ways people experience intellectual disability\nValue the insights gained from those who have received a genetic diagnosis of intellectual disability \n\nThis meeting is in association with the RSM Intellectual Disability Section. \nThe genetics of… series has been developed following feedback from delegates. Presented by the Medical Genetics section of the Royal Society of Medicine\, this series of talks will focus on the role of genetics in different areas of health and wellbeing.
URL:https://www.m4rd.org/event/the-genetics-of-intellectual-disability-episode-15/
LOCATION:LIVE STREAM
CATEGORIES:Genetics,Rare Diseases,Royal Society of Medicine,Webinar
ATTACH;FMTTYPE=image/png:https://www.m4rd.org/wp-content/uploads/2022/05/Screenshot-2022-05-04-at-09.38.35.png
END:VEVENT
END:VCALENDAR