BEGIN:VCALENDAR
VERSION:2.0
PRODID:-//Medics For Rare Disease - ECPv6.15.20//NONSGML v1.0//EN
CALSCALE:GREGORIAN
METHOD:PUBLISH
X-ORIGINAL-URL:https://www.m4rd.org
X-WR-CALDESC:Events for Medics For Rare Disease
REFRESH-INTERVAL;VALUE=DURATION:PT1H
X-Robots-Tag:noindex
X-PUBLISHED-TTL:PT1H
BEGIN:VTIMEZONE
TZID:Europe/London
BEGIN:DAYLIGHT
TZOFFSETFROM:+0000
TZOFFSETTO:+0100
TZNAME:BST
DTSTART:20220327T010000
END:DAYLIGHT
BEGIN:STANDARD
TZOFFSETFROM:+0100
TZOFFSETTO:+0000
TZNAME:GMT
DTSTART:20221030T010000
END:STANDARD
BEGIN:DAYLIGHT
TZOFFSETFROM:+0000
TZOFFSETTO:+0100
TZNAME:BST
DTSTART:20230326T010000
END:DAYLIGHT
BEGIN:STANDARD
TZOFFSETFROM:+0100
TZOFFSETTO:+0000
TZNAME:GMT
DTSTART:20231029T010000
END:STANDARD
BEGIN:DAYLIGHT
TZOFFSETFROM:+0000
TZOFFSETTO:+0100
TZNAME:BST
DTSTART:20240331T010000
END:DAYLIGHT
BEGIN:STANDARD
TZOFFSETFROM:+0100
TZOFFSETTO:+0000
TZNAME:GMT
DTSTART:20241027T010000
END:STANDARD
END:VTIMEZONE
BEGIN:VEVENT
DTSTART;TZID=Europe/London:20230228T190000
DTEND;TZID=Europe/London:20230228T203000
DTSTAMP:20260423T041622
CREATED:20230120T150914Z
LAST-MODIFIED:20230120T152039Z
UID:10328-1677610800-1677616200@www.m4rd.org
SUMMARY:Beyond the Student Voice Prize
DESCRIPTION:The Student Voice Prize is delighted to invite you to our second annual virtual rare disease day event ‘Beyond the Student Voice Prize;’ an opportunity to connect with peers and patient group leaders to learn more about the rare community and how you can get involved and continue your advocacy.\nWhat can you expect? \nThe event will be an informal opportunity for you to meet fellow entrants to the competition\, connect with patient group advocates and hear from those working actively in rare diseases. There will be a series of short inspiring presentations from a cross-section of individuals as well as handy guidance for getting more involved with the rare disease community and building a focus on rare into your career. \nWho is this event for?  \n\nPrevious entrants of the Student Voice Prize\nProspective entrants of the Student Voice Prize\nMedical students interested in learning more about rare conditions and getting involved in the community\nRare disease patient group leaders who have been involved in the Student Voice Prize in the past\nRare Disease patient group leaders who haven’t been involved in the Student Voice Prize in the past- all are welcome!\n\nWhy should you attend?  \nRare diseases are collectively common\, meaning you are likely to come across them in one form or other in your medical career. Learning about them early can better prepare you as a future clinician and can ensure better outcomes for individuals diagnosed and living with rare conditions. \nRare diseases are gaining increasing momentum as pressing health priorities worldwide\, compounded by advances such as the first-ever UN Resolution on persons with rare diseases and the new UK Rare Diseases Framework. There has never been a better time to get involved with the rare disease community to help create change\, raise awareness and drive your own personal development. \nThe Student Voice Prize is much more than just a competition. It has proven itself to be a gateway for many medical students\, nurses and scientists who want to engage with patients from across the medical spectrum\, particularly in rare disease. This is your chance to go beyond and become an advocate for a large\, but poorly represented community and help make a real difference in the lives of rare disease patients and their families.\n———————————————————————————————–\nThe Student Voice Prize is a project run in collaboration by Medics4RareDiseases (Charity No 1183996) and Beacon (Charity No 1149646) \n 
URL:https://www.m4rd.org/event/btsvp/
LOCATION:LIVE STREAM
CATEGORIES:Rare Diseases,Student Voice Prize,Webinar
ATTACH;FMTTYPE=image/png:https://www.m4rd.org/wp-content/uploads/2023/01/stvp.png
END:VEVENT
END:VCALENDAR