BEGIN:VCALENDAR
VERSION:2.0
PRODID:-//Medics For Rare Disease - ECPv6.15.20//NONSGML v1.0//EN
CALSCALE:GREGORIAN
METHOD:PUBLISH
X-ORIGINAL-URL:https://www.m4rd.org
X-WR-CALDESC:Events for Medics For Rare Disease
REFRESH-INTERVAL;VALUE=DURATION:PT1H
X-Robots-Tag:noindex
X-PUBLISHED-TTL:PT1H
BEGIN:VTIMEZONE
TZID:Europe/London
BEGIN:DAYLIGHT
TZOFFSETFROM:+0000
TZOFFSETTO:+0100
TZNAME:BST
DTSTART:20200329T010000
END:DAYLIGHT
BEGIN:STANDARD
TZOFFSETFROM:+0100
TZOFFSETTO:+0000
TZNAME:GMT
DTSTART:20201025T010000
END:STANDARD
BEGIN:DAYLIGHT
TZOFFSETFROM:+0000
TZOFFSETTO:+0100
TZNAME:BST
DTSTART:20210328T010000
END:DAYLIGHT
BEGIN:STANDARD
TZOFFSETFROM:+0100
TZOFFSETTO:+0000
TZNAME:GMT
DTSTART:20211031T010000
END:STANDARD
BEGIN:DAYLIGHT
TZOFFSETFROM:+0000
TZOFFSETTO:+0100
TZNAME:BST
DTSTART:20220327T010000
END:DAYLIGHT
BEGIN:STANDARD
TZOFFSETFROM:+0100
TZOFFSETTO:+0000
TZNAME:GMT
DTSTART:20221030T010000
END:STANDARD
END:VTIMEZONE
BEGIN:VEVENT
DTSTART;TZID=Europe/London:20210513T170000
DTEND;TZID=Europe/London:20210513T180000
DTSTAMP:20260423T124138
CREATED:20210505T085830Z
LAST-MODIFIED:20210505T090258Z
UID:7882-1620925200-1620928800@www.m4rd.org
SUMMARY:Mobilising pathways to accommodate new transformative treatments - using CF as a case study
DESCRIPTION:Join OPEN HEALTH for a live webinar exploring the journey of RARE pathway transformation and the introduction of disease-modifying treatments as part of their Rare Thoughts and Outcomes series.\nLearn from the experiences of patients\, parents\, and physicians about how cystic fibrosis pathways are rapidly adapted and what learnings can be applied to other rare diseases to strive for positive outcomes for all. \nHopefully many more rare diseases will soon have disease modifying treatments that have the potential to transform patient lives. However if diagnostic\, treatment and management pathways are not ready or fit for purpose then patient access will be delayed. This panel will discuss recent experiences in Cystic Fibrosis during a time when disease modifying agents were introduced. The panel will discuss this revolution in the treatment of this disease through the eyes of patients\, parents and physicians to explore what can be applied to accelerate pathway development in other rare diseases. \nPanelists: \nTracey Daniels – Clinical Lead\, York Teaching Hospital Foundation Trust \nElla Balasa – Patient Advocate and Health Engagement Consultant \nEleanor Thistleton – Parent and Medical Communications Expert\, OPEN Health \nTom Smith – Patient Advocate and Life Science Public Engagement Expert \nPanel Chair – Gavin Jones\, Global Advisor\, Rare Diseases\, OPEN Health
URL:https://www.m4rd.org/event/mobilising-pathways-to-accommodate-new-transformative-treatments-using-cf-as-a-case-study/
LOCATION:ONLINE
CATEGORIES:Rare Diseases,Webinar
ATTACH;FMTTYPE=image/jpeg:https://www.m4rd.org/wp-content/uploads/2021/05/68e77ee46c0acec5bd565a4b7a69741c.jpeg
END:VEVENT
END:VCALENDAR