BEGIN:VCALENDAR
VERSION:2.0
PRODID:-//Medics For Rare Disease - ECPv6.15.20//NONSGML v1.0//EN
CALSCALE:GREGORIAN
METHOD:PUBLISH
X-WR-CALNAME:Medics For Rare Disease
X-ORIGINAL-URL:https://www.m4rd.org
X-WR-CALDESC:Events for Medics For Rare Disease
REFRESH-INTERVAL;VALUE=DURATION:PT1H
X-Robots-Tag:noindex
X-PUBLISHED-TTL:PT1H
BEGIN:VTIMEZONE
TZID:Europe/London
BEGIN:DAYLIGHT
TZOFFSETFROM:+0000
TZOFFSETTO:+0100
TZNAME:BST
DTSTART:20210328T010000
END:DAYLIGHT
BEGIN:STANDARD
TZOFFSETFROM:+0100
TZOFFSETTO:+0000
TZNAME:GMT
DTSTART:20211031T010000
END:STANDARD
BEGIN:DAYLIGHT
TZOFFSETFROM:+0000
TZOFFSETTO:+0100
TZNAME:BST
DTSTART:20220327T010000
END:DAYLIGHT
BEGIN:STANDARD
TZOFFSETFROM:+0100
TZOFFSETTO:+0000
TZNAME:GMT
DTSTART:20221030T010000
END:STANDARD
BEGIN:DAYLIGHT
TZOFFSETFROM:+0000
TZOFFSETTO:+0100
TZNAME:BST
DTSTART:20230326T010000
END:DAYLIGHT
BEGIN:STANDARD
TZOFFSETFROM:+0100
TZOFFSETTO:+0000
TZNAME:GMT
DTSTART:20231029T010000
END:STANDARD
END:VTIMEZONE
BEGIN:VEVENT
DTSTART;VALUE=DATE:20220617
DTEND;VALUE=DATE:20220618
DTSTAMP:20260423T085800
CREATED:20220406T083528Z
LAST-MODIFIED:20220406T083528Z
UID:9258-1655424000-1655510399@www.m4rd.org
SUMMARY:Hypermobility syndrome: A practical guide to assessment\, management and care
DESCRIPTION:Join the RSM at this multidisciplinary event which will provide a valuable overview and a broader understanding of hypermobility syndrome and the care of these patients. \nExperts in their field will present a series of talks that will inform delegates about practical guides for the assessment and management of this condition and will explore how community care can make a difference. \nKey speakers include: Professor Lara Bloom\, Academic Affiliate Professor of Practice in Patient Engagement and Global Collaboration\, Penn State College of Medicine and CEO of The Ehlers-Danlos Society\, Dr James Kustow\, Consultant Psychiatrist and Medical Director\, The Groves\, Dr Jane Simmonds\, Co-deputy Director of Education and MSc Advanced Paediatric Physiotherapist\, and many more. \n  \nBook in-person event here \nBook live stream here
URL:https://www.m4rd.org/event/hypermobility-syndrome-a-practical-guide-to-assessment-management-and-care/
LOCATION:Royal Society of Medicine\, 1 Wimpole Street\, London\, W1G 0AE\, United Kingdom
CATEGORIES:Rare Diseases,Royal Society of Medicine
ATTACH;FMTTYPE=image/jpeg:https://www.m4rd.org/wp-content/uploads/2022/04/unnamed-25.jpg
END:VEVENT
END:VCALENDAR