BEGIN:VCALENDAR
VERSION:2.0
PRODID:-//Medics For Rare Disease - ECPv6.15.20//NONSGML v1.0//EN
CALSCALE:GREGORIAN
METHOD:PUBLISH
X-WR-CALNAME:Medics For Rare Disease
X-ORIGINAL-URL:https://www.m4rd.org
X-WR-CALDESC:Events for Medics For Rare Disease
REFRESH-INTERVAL;VALUE=DURATION:PT1H
X-Robots-Tag:noindex
X-PUBLISHED-TTL:PT1H
BEGIN:VTIMEZONE
TZID:Europe/London
BEGIN:DAYLIGHT
TZOFFSETFROM:+0000
TZOFFSETTO:+0100
TZNAME:BST
DTSTART:20180325T010000
END:DAYLIGHT
BEGIN:STANDARD
TZOFFSETFROM:+0100
TZOFFSETTO:+0000
TZNAME:GMT
DTSTART:20181028T010000
END:STANDARD
BEGIN:DAYLIGHT
TZOFFSETFROM:+0000
TZOFFSETTO:+0100
TZNAME:BST
DTSTART:20190331T010000
END:DAYLIGHT
BEGIN:STANDARD
TZOFFSETFROM:+0100
TZOFFSETTO:+0000
TZNAME:GMT
DTSTART:20191027T010000
END:STANDARD
BEGIN:DAYLIGHT
TZOFFSETFROM:+0000
TZOFFSETTO:+0100
TZNAME:BST
DTSTART:20200329T010000
END:DAYLIGHT
BEGIN:STANDARD
TZOFFSETFROM:+0100
TZOFFSETTO:+0000
TZNAME:GMT
DTSTART:20201025T010000
END:STANDARD
END:VTIMEZONE
BEGIN:VEVENT
DTSTART;TZID=Europe/London:20190524T093000
DTEND;TZID=Europe/London:20190524T160000
DTSTAMP:20260425T040522
CREATED:20190429T185458Z
LAST-MODIFIED:20190520T150646Z
UID:4798-1558690200-1558713600@www.m4rd.org
SUMMARY:PKU: A Heads Up
DESCRIPTION:Leading experts will explore the pathophysiology of PKU\, the impact of high phenylalanine levels on the brain of adult patients and the effect of PKU and aging.\nPhenylketonuria (PKU) is an inherited disorder that increases the levels of phenylalanine in the blood. Without treatment\, children develop permanent intellectual disabilities. Seizures\, delayed development\, behavioural problems and psychiatric disorders are also common. \nThis day will explore: \n\nPsychological disorders and mental health\nNeurological deterioration\nBone health\nPremature aging\nNutritional complications\n\nFor more information and to book tickets email keeley.crompton@srft.nhs.uk
URL:https://www.m4rd.org/event/pku-a-heads-up/
LOCATION:Salford Royal Hospitals NHS Foundation Trust\, Stott Lane\, Salford\, Manchester\, M6 8HD\, United Kingdom
CATEGORIES:Conference,Lectures,Rare Diseases
ATTACH;FMTTYPE=image/png:https://www.m4rd.org/wp-content/uploads/2019/04/PKU-e1558364786805.png
ORGANIZER;CN="Salford Royal NHS Foundation Trust":MAILTO:Keeley.Crompton@srft.nhs.uk
END:VEVENT
END:VCALENDAR