BEGIN:VCALENDAR
VERSION:2.0
PRODID:-//Medics For Rare Disease - ECPv6.15.20//NONSGML v1.0//EN
CALSCALE:GREGORIAN
METHOD:PUBLISH
X-ORIGINAL-URL:https://www.m4rd.org
X-WR-CALDESC:Events for Medics For Rare Disease
REFRESH-INTERVAL;VALUE=DURATION:PT1H
X-Robots-Tag:noindex
X-PUBLISHED-TTL:PT1H
BEGIN:VTIMEZONE
TZID:Europe/London
BEGIN:DAYLIGHT
TZOFFSETFROM:+0000
TZOFFSETTO:+0100
TZNAME:BST
DTSTART:20250330T010000
END:DAYLIGHT
BEGIN:STANDARD
TZOFFSETFROM:+0100
TZOFFSETTO:+0000
TZNAME:GMT
DTSTART:20251026T010000
END:STANDARD
BEGIN:DAYLIGHT
TZOFFSETFROM:+0000
TZOFFSETTO:+0100
TZNAME:BST
DTSTART:20260329T010000
END:DAYLIGHT
BEGIN:STANDARD
TZOFFSETFROM:+0100
TZOFFSETTO:+0000
TZNAME:GMT
DTSTART:20261025T010000
END:STANDARD
BEGIN:DAYLIGHT
TZOFFSETFROM:+0000
TZOFFSETTO:+0100
TZNAME:BST
DTSTART:20270328T010000
END:DAYLIGHT
BEGIN:STANDARD
TZOFFSETFROM:+0100
TZOFFSETTO:+0000
TZNAME:GMT
DTSTART:20271031T010000
END:STANDARD
END:VTIMEZONE
BEGIN:VEVENT
DTSTART;TZID=Europe/London:20260115T133000
DTEND;TZID=Europe/London:20260115T150000
DTSTAMP:20260423T115115
CREATED:20260109T140652Z
LAST-MODIFIED:20260109T140740Z
UID:14360-1768483800-1768489200@www.m4rd.org
SUMMARY:Moving the WHA Resolution on Rare Diseases Forward: From Promise to Action
DESCRIPTION:Join Rare Diseases International for this public webinar where they will discuss the current status of the WHA Resolution implementation\, as they approach the World Health Organization Executive Board meeting taking place in February 2026. This webinar will engage in a multistakeholder dialogue focusing on the necessary path forward to accelerate the implementation of the Resolution and importantly the development of the GAPRD.
URL:https://www.m4rd.org/event/moving-the-wha-resolution-on-rare-diseases-forward-from-promise-to-action/
LOCATION:ONLINE
CATEGORIES:Global Health,Policy & Advocacy,Public Engagement,Rare Disease,Webinar
ATTACH;FMTTYPE=image/png:https://www.m4rd.org/wp-content/uploads/2026/01/RDI.png
END:VEVENT
END:VCALENDAR