BEGIN:VCALENDAR
VERSION:2.0
PRODID:-//Medics For Rare Disease - ECPv6.15.20//NONSGML v1.0//EN
CALSCALE:GREGORIAN
METHOD:PUBLISH
X-WR-CALNAME:Medics For Rare Disease
X-ORIGINAL-URL:https://www.m4rd.org
X-WR-CALDESC:Events for Medics For Rare Disease
REFRESH-INTERVAL;VALUE=DURATION:PT1H
X-Robots-Tag:noindex
X-PUBLISHED-TTL:PT1H
BEGIN:VTIMEZONE
TZID:Europe/London
BEGIN:DAYLIGHT
TZOFFSETFROM:+0000
TZOFFSETTO:+0100
TZNAME:BST
DTSTART:20220327T010000
END:DAYLIGHT
BEGIN:STANDARD
TZOFFSETFROM:+0100
TZOFFSETTO:+0000
TZNAME:GMT
DTSTART:20221030T010000
END:STANDARD
BEGIN:DAYLIGHT
TZOFFSETFROM:+0000
TZOFFSETTO:+0100
TZNAME:BST
DTSTART:20230326T010000
END:DAYLIGHT
BEGIN:STANDARD
TZOFFSETFROM:+0100
TZOFFSETTO:+0000
TZNAME:GMT
DTSTART:20231029T010000
END:STANDARD
BEGIN:DAYLIGHT
TZOFFSETFROM:+0000
TZOFFSETTO:+0100
TZNAME:BST
DTSTART:20240331T010000
END:DAYLIGHT
BEGIN:STANDARD
TZOFFSETFROM:+0100
TZOFFSETTO:+0000
TZNAME:GMT
DTSTART:20241027T010000
END:STANDARD
END:VTIMEZONE
BEGIN:VEVENT
DTSTART;TZID=Europe/London:20230222T180000
DTEND;TZID=Europe/London:20230222T193000
DTSTAMP:20260422T183656
CREATED:20230222T113454Z
LAST-MODIFIED:20230222T113454Z
UID:10462-1677088800-1677094200@www.m4rd.org
SUMMARY:Shining a Light on Silver-Russell Syndrome (SRS) on Rare Disease Day
DESCRIPTION:Join us for this ONLINE event on Rare Disease Day 2023\, find out about how rare genetic conditions\, like SRS\, are diagnosed and hear about what it’s like to live with Silver-Russell syndrome (SRS). \n\n\nFeaturing \n\nGracie Taylor\, Patient Voice (& Science Insights Alumni)\nProf Mary Porteous\, SE Scotland Rare Disease Diagnostic Service\nDr Emma Wakeling\, Clinical Genetics and Genomics Consultant\, Great Ormond Street Hospital  & Medical Advisor to Child Growth Foundation\nJeff Bolton\, Chair\, Child Growth Foundation
URL:https://www.m4rd.org/event/silver-russell-syndrome/
LOCATION:ONLINE
CATEGORIES:Rare Diseases,Webinar
ATTACH;FMTTYPE=image/png:https://www.m4rd.org/wp-content/uploads/2023/02/image.png
END:VEVENT
END:VCALENDAR